BEGIN:VCALENDAR
VERSION:2.0
PRODID:-//JIVA/ANAND YOGA - ECPv5.14.0.4//NONSGML v1.0//EN
CALSCALE:GREGORIAN
METHOD:PUBLISH
X-WR-CALNAME:JIVA/ANAND YOGA
X-ORIGINAL-URL:https://www.jiva-anandyoga.com
X-WR-CALDESC:Veranstaltungen für JIVA/ANAND YOGA
BEGIN:VTIMEZONE
TZID:Europe/Berlin
BEGIN:DAYLIGHT
TZOFFSETFROM:+0100
TZOFFSETTO:+0200
TZNAME:CEST
DTSTART:20270328T010000
END:DAYLIGHT
BEGIN:STANDARD
TZOFFSETFROM:+0200
TZOFFSETTO:+0100
TZNAME:CET
DTSTART:20271031T010000
END:STANDARD
END:VTIMEZONE
BEGIN:VEVENT
DTSTART;VALUE=DATE:20270206
DTEND;VALUE=DATE:20270217
DTSTAMP:20260422T172256
CREATED:20231002T151503Z
LAST-MODIFIED:20260221T162147Z
UID:17875-1801872000-1802822399@www.jiva-anandyoga.com
SUMMARY:Yoga Retreat Costa Rica '27
DESCRIPTION:Yoga Urlaub oder Yoga Intense…?\n\nVom  06.- 16. Februar 2027 findet unser Yoga Retreat in Costa Rica statt. Es gibt 2 Möglichkeiten an unserem Retreat teilzunehmen: Im Rahmen eines ‚Yoga Urlaubs‘ oder aber im Rahmen deiner 200+ Hybrid Yogaausbildung oder Fortbildung Yogalehrer Praktikum  \nIm Costa Rica Yoga Urlaub nimmst du täglich gemeinsam mit den Auszubildenden an 2 Praxis-Sessions statt (2x Morgens und 2x Abends unterrichtsfrei). Die Teilnehmer der Yogalehrer-Ausbildung haben zusätzliche Ausbildungszeiten. \nDetail-Infos zum Retreat: Yoga Retreat Costa Rica \nWas erwartet dich in der Version ‚Yoga Urlaub‘?\n16 Yogaeinheiten über 10 Tage wobei 2x Tage unterrichtsfrei (Zeit für Ausflüge) sind. Morgens chanten\, atmen\, üben wir 2\,5 Stunden – Abends 2 Stunden.  Anders als beim gelegentlichen üben daheim wird der Wert für dein Üben\, deine Selbstpraxis\, dein Yoga darin zu finden sein\, dass der Unterricht im Laufe der 10 Tage immer gezielter auf die anwesenden Yogis und damit auf eure Bedürfnisse\, Schwächen\, Fähigkeiten eingehen wird. \nDu erhältst wertvolle Ansätze für deine Praxis und lernst\, diese entspannt und zielgerichtet an die eigenen Ziele und Bedürfnisse anzupassen. Die Praxiseinheiten enthalten philosophische und individuelle Anleitungen und Hinführungen. \nDabei hast du ausreichend Raum und Zeit\, die Schönheit der Nicoya Penninsula und der zugehörigen Natur-Reservate zu erkunden. \nWas erwartet dich in der 200+ Hybrid Ausbildung (Live & Online) oder im Praktikum ?\nDer Inhalt variiert je nachdem ob  200 Std Ausbildung oder 100 Std Praktikum. Für nähere Information bitte einen Termin Erstinformation Yogalehrer-Ausbildung per email vereinbaren. \nOrt \nNicoya Peninsula/ Santa Teresa Costa Rica. Anreise mit eigenem Auto\, Bus/Fähre. \nUnterkunft \nVilla mit grossem Grundstück/Pool fussläufig zum Meer. \nStudenten \nKarma Yoga Pätze für Studenten bitte nachfragen.
URL:https://www.jiva-anandyoga.com/event/yoga-retreat-costa-rica/
LOCATION:Gabelsbergerstr. 62\, München\, 80333
CATEGORIES:Retreats
ATTACH;FMTTYPE=image/jpeg:https://www.jiva-anandyoga.com/yoga/wp-content/uploads/2018/04/yoga-münchen-jiva_anand_yoga_costarica_6127-Hero_optimized.jpg
END:VEVENT
END:VCALENDAR